BEGIN:VCALENDAR
VERSION:2.0
PRODID:icalendar-ruby
CALSCALE:GREGORIAN
METHOD:PUBLISH
BEGIN:VEVENT
DTSTAMP:20260424T135355Z
UID:98-3648535@bethluth.org
DTSTART:20261101T160000Z
DTEND:20261101T170000Z
CLASS:PUBLIC
CREATED:20260424T073648
DESCRIPTION:
LAST-MODIFIED:20260424T073648
LOCATION:BLC
SUMMARY:Worship
URL;VALUE=URI:https://www.bethluth.org/events/worship--98/2026-11-01
END:VEVENT
END:VCALENDAR
