BEGIN:VCALENDAR
VERSION:2.0
PRODID:icalendar-ruby
CALSCALE:GREGORIAN
METHOD:PUBLISH
BEGIN:VEVENT
DTSTAMP:20260424T084201Z
UID:98-3643952@bethluth.org
DTSTART:20261011T150000Z
DTEND:20261011T160000Z
CLASS:PUBLIC
CREATED:20260423T191422
DESCRIPTION:
LAST-MODIFIED:20260423T191422
LOCATION:BLC
SUMMARY:Worship
URL;VALUE=URI:https://www.bethluth.org/events/worship--98/2026-10-11
END:VEVENT
END:VCALENDAR
