BEGIN:VCALENDAR
VERSION:2.0
PRODID:icalendar-ruby
CALSCALE:GREGORIAN
METHOD:PUBLISH
BEGIN:VEVENT
DTSTAMP:20260421T221442Z
UID:98-3614214@bethluth.org
DTSTART:20260913T150000Z
DTEND:20260913T160000Z
CLASS:PUBLIC
CREATED:20260421T150544
DESCRIPTION:
LAST-MODIFIED:20260421T150544
LOCATION:BLC
SUMMARY:Worship
URL;VALUE=URI:https://www.bethluth.org/events/worship--98/2026-09-13
END:VEVENT
END:VCALENDAR
