BEGIN:VCALENDAR
VERSION:2.0
PRODID:icalendar-ruby
CALSCALE:GREGORIAN
METHOD:PUBLISH
BEGIN:VEVENT
DTSTAMP:20260421T143807Z
UID:98-3607355@bethluth.org
DTSTART:20260816T150000Z
DTEND:20260816T160000Z
CLASS:PUBLIC
CREATED:20260421T071320
DESCRIPTION:
LAST-MODIFIED:20260421T071320
LOCATION:BLC
SUMMARY:Worship
URL;VALUE=URI:https://www.bethluth.org/events/worship--98/2026-08-16
END:VEVENT
END:VCALENDAR
