BEGIN:VCALENDAR
VERSION:2.0
PRODID:icalendar-ruby
CALSCALE:GREGORIAN
METHOD:PUBLISH
BEGIN:VEVENT
DTSTAMP:20260421T105340Z
UID:98-3605068@bethluth.org
DTSTART:20260802T150000Z
DTEND:20260802T160000Z
CLASS:PUBLIC
CREATED:20260421T043724
DESCRIPTION:
LAST-MODIFIED:20260421T043724
LOCATION:BLC
SUMMARY:Worship
URL;VALUE=URI:https://www.bethluth.org/events/worship--98/2026-08-02
END:VEVENT
END:VCALENDAR
