BEGIN:VCALENDAR
VERSION:2.0
PRODID:icalendar-ruby
CALSCALE:GREGORIAN
METHOD:PUBLISH
BEGIN:VEVENT
DTSTAMP:20260423T122008Z
UID:59-3631578@bethluth.org
DTSTART:20261001T150000Z
DTEND:20261001T170000Z
CLASS:PUBLIC
CREATED:20260423T044137
DESCRIPTION:
LAST-MODIFIED:20260423T044137
LOCATION:
SUMMARY:Quilters
URL;VALUE=URI:https://www.bethluth.org/events/quilters/2026-10-01
ATTACH;FILENAME=IMG_0567.jpeg;FMTTYPE=image/jpeg:https://dq5pwpg1q8ru0.clou
 dfront.net/2020/06/05/11/03/25/22cddd41-f7a2-46d4-8d5f-6cd29310afa5/IMG_05
 67.jpeg
END:VEVENT
END:VCALENDAR
