BEGIN:VCALENDAR
VERSION:2.0
PRODID:icalendar-ruby
CALSCALE:GREGORIAN
METHOD:PUBLISH
BEGIN:VEVENT
DTSTAMP:20260422T050310Z
UID:137-3616897@bethluth.org
DTSTART:20260922T000000Z
DTEND:20260922T020000Z
CLASS:PUBLIC
CREATED:20260421T174419
DESCRIPTION:
LAST-MODIFIED:20260421T174419
LOCATION:BLC
SUMMARY:Feeding the Flathead
URL;VALUE=URI:https://www.bethluth.org/events/feeding-the-flathead/2026-09-
 21
ATTACH;FILENAME=feeding_the_homeless_810_500_55_s_c1.jpg;FMTTYPE=image/jpeg
 :https://dq5pwpg1q8ru0.cloudfront.net/2023/01/31/10/24/58/c415d7a6-11e0-4d
 a2-84fd-99d84e38c7c8/feeding_the_homeless_810_500_55_s_c1.jpg
END:VEVENT
END:VCALENDAR
