BEGIN:VCALENDAR
VERSION:2.0
PRODID:icalendar-ruby
CALSCALE:GREGORIAN
METHOD:PUBLISH
BEGIN:VEVENT
DTSTAMP:20260426T033317Z
UID:167-3672155@bethluth.org
DTSTART:20261025T163000Z
DTEND:20261025T173000Z
CLASS:PUBLIC
CREATED:20260425T180621
DESCRIPTION:
LAST-MODIFIED:20260425T180621
LOCATION:
SUMMARY:Bell Choir Practice
URL;VALUE=URI:https://www.bethluth.org/events/bell-choir-practice/2026-10-2
 5
ATTACH;FILENAME=cropped-DSC_1357-1r0pltm.jpg;FMTTYPE=image/jpeg:https://dq5
 pwpg1q8ru0.cloudfront.net/2024/06/14/18/35/18/1f05777b-8ee3-4d7f-9aa0-6f8a
 aabc3534/cropped-DSC_1357-1r0pltm.jpg
END:VEVENT
END:VCALENDAR
