BEGIN:VCALENDAR
VERSION:2.0
PRODID:icalendar-ruby
CALSCALE:GREGORIAN
METHOD:PUBLISH
BEGIN:VEVENT
DTSTAMP:20260425T154950Z
UID:167-3662988@bethluth.org
DTSTART:20260906T163000Z
DTEND:20260906T173000Z
CLASS:PUBLIC
CREATED:20260425T072029
DESCRIPTION:
LAST-MODIFIED:20260425T072029
LOCATION:
SUMMARY:Bell Choir Practice
URL;VALUE=URI:https://www.bethluth.org/events/bell-choir-practice/2026-09-0
 6
ATTACH;FILENAME=cropped-DSC_1357-1r0pltm.jpg;FMTTYPE=image/jpeg:https://dq5
 pwpg1q8ru0.cloudfront.net/2024/06/14/18/35/18/1f05777b-8ee3-4d7f-9aa0-6f8a
 aabc3534/cropped-DSC_1357-1r0pltm.jpg
END:VEVENT
END:VCALENDAR
