BEGIN:VCALENDAR
VERSION:2.0
PRODID:icalendar-ruby
CALSCALE:GREGORIAN
METHOD:PUBLISH
BEGIN:VEVENT
DTSTAMP:20260425T121325Z
UID:167-3660696@bethluth.org
DTSTART:20260823T163000Z
DTEND:20260823T173000Z
CLASS:PUBLIC
CREATED:20260425T043856
DESCRIPTION:
LAST-MODIFIED:20260425T043856
LOCATION:
SUMMARY:Bell Choir Practice
URL;VALUE=URI:https://www.bethluth.org/events/bell-choir-practice/2026-08-2
 3
ATTACH;FILENAME=cropped-DSC_1357-1r0pltm.jpg;FMTTYPE=image/jpeg:https://dq5
 pwpg1q8ru0.cloudfront.net/2024/06/14/18/35/18/1f05777b-8ee3-4d7f-9aa0-6f8a
 aabc3534/cropped-DSC_1357-1r0pltm.jpg
END:VEVENT
END:VCALENDAR
